BEGIN:VCALENDAR
VERSION:2.0
PRODID:icalendar-ruby
CALSCALE:GREGORIAN
METHOD:PUBLISH
BEGIN:VEVENT
DTSTAMP:20260423T112813Z
UID:7-269780@flushingumc.org
DTSTART:20260516T140000Z
DTEND:20260516T163000Z
CLASS:PUBLIC
CREATED:20260422T112439
DESCRIPTION:Click on the PDF to find out more. 
LAST-MODIFIED:20260422T112439
LOCATION:
SUMMARY:Move4Mission
URL;VALUE=URI:https://flushingumc.org/events/move4mission/2026-05-16
ATTACH;FILENAME=Move-4-Mission-2026-pic.jpg;FMTTYPE=image/jpeg:https://dq5p
 wpg1q8ru0.cloudfront.net/2026/04/22/15/24/38/bfc3abd9-eb02-4221-9eed-3f096
 c3bb449/Move-4-Mission-2026-pic.jpg
ATTACH;FILENAME="Move - Registration, 2026, edited.pdf";FMTTYPE=application
 /pdf:https://dq5pwpg1q8ru0.cloudfront.net/2026/04/22/14/34/49/44c06917-816
 f-419b-a322-3804875a1221/Move%20-%20Registration,%202026,%20edited.pdf
END:VEVENT
END:VCALENDAR
